BEGIN:VCALENDAR
VERSION:2.0
PRODID:-//Ehpad Conseil - ECPv5.2.1//NONSGML v1.0//EN
CALSCALE:GREGORIAN
METHOD:PUBLISH
X-WR-CALNAME:Ehpad Conseil
X-ORIGINAL-URL:https://ehpad-conseil.fr
X-WR-CALDESC:évènements pour Ehpad Conseil
BEGIN:VTIMEZONE
TZID:Europe/Paris
BEGIN:STANDARD
TZOFFSETFROM:+0100
TZOFFSETTO:+0100
TZNAME:CET
DTSTART:20200101T000000
END:STANDARD
END:VTIMEZONE
BEGIN:VEVENT
DTSTART;TZID=Europe/Paris:20200709T040343
DTEND;TZID=Europe/Paris:20150701T180000
DTSTAMP:20260420T093220
CREATED:20150112T073119Z
LAST-MODIFIED:20150112T073119Z
UID:191-1594267423-1435773600@ehpad-conseil.fr
SUMMARY:Pumpkin Picking & A Hayride
DESCRIPTION:Quisque tortor nisi\, tristique sit amet commodo vel\, commodo at mauris. Vestibulum vel justo neque\, non pharetra orci. Integer nec est mauris\, in vestibulum elit. Nulla facilisi. Praesent eu dolor lacus. Vestibulum laoreet sodales arcu fermentum rutrum. Donec dignissim pharetra enim. Donec et orci et risus adipiscing congue. Nulla facilisi. Nullam eu ipsum a nisl mattis semper a vel nisi. Duis tincidunt\, ante eget elementum euismod\, augue risus hendrerit ante\, ut tincidunt dui est vitae tortor. Aliquam sem ligula\, facilisis eget sollicitudin vitae\, vehicula sit amet felis. Nullam pulvinar arcu ac quam hendrerit eget porttitor mi commodo. Praesent consectetur ipsum sed urna pharetra feugiat. Vestibulum lacus diam\, laoreet in semper dictum\, eleifend non lacus.
URL:https://ehpad-conseil.fr/event/free-photoshop-class-at-lisbon/
ATTACH;FMTTYPE=image/jpeg:https://ehpad-conseil.fr/wp-content/uploads/2015/01/Happy_Elderly_Couple_Smiling_T_6361653.jpg
END:VEVENT
END:VCALENDAR