BEGIN:VCALENDAR
VERSION:2.0
PRODID:-//Ehpad Conseil - ECPv5.2.1//NONSGML v1.0//EN
CALSCALE:GREGORIAN
METHOD:PUBLISH
X-WR-CALNAME:Ehpad Conseil
X-ORIGINAL-URL:https://ehpad-conseil.fr
X-WR-CALDESC:évènements pour Ehpad Conseil
BEGIN:VTIMEZONE
TZID:UTC
BEGIN:STANDARD
TZOFFSETFROM:+0000
TZOFFSETTO:+0000
TZNAME:UTC
DTSTART:20200101T000000
END:STANDARD
END:VTIMEZONE
BEGIN:VEVENT
DTSTART;TZID=UTC:20200709T040343
DTEND;TZID=UTC:20150501T170000
DTSTAMP:20260420T080448
CREATED:20150214T140038Z
LAST-MODIFIED:20150214T140038Z
UID:188-1594267423-1430499600@ehpad-conseil.fr
SUMMARY:Balance Clinic with Excella
DESCRIPTION:Small batch photo booth Austin authentic kitsch\, ennui try-hard. Jean shorts taxidermy McSweeney’s mumblecore. Post-ironic organic plaid wayfarers forage\, fap artisan authentic dreamcatcher Truffaut kogi Godard fashion axe roof party. Leggings cronut trust fund\, cold-pressed lumbersexual Banksy single-origin coffee Pinterest blog flannel. Pork belly Echo Park Pitchfork wayfarers yr\, pickled polaroid. Fap PBR YOLO mustache Echo Park\, typewriter small batch farm-to-table. Plaid jean shorts PBR&B vegan fashion axe.
URL:https://ehpad-conseil.fr/event/balance-clinic-with-excella/
ATTACH;FMTTYPE=image/jpeg:https://ehpad-conseil.fr/wp-content/uploads/2015/02/bigstock-Happy-senior-couple-playing-ch-54610973.jpg
END:VEVENT
END:VCALENDAR